BEGIN:VCALENDAR
VERSION:2.0
PRODID:-//Rainbow Minerals - ECPv6.15.13//NONSGML v1.0//EN
CALSCALE:GREGORIAN
METHOD:PUBLISH
X-ORIGINAL-URL:https://rainbowminerals.com
X-WR-CALDESC:Events for Rainbow Minerals
REFRESH-INTERVAL;VALUE=DURATION:PT1H
X-Robots-Tag:noindex
X-PUBLISHED-TTL:PT1H
BEGIN:VTIMEZONE
TZID:America/Toronto
BEGIN:DAYLIGHT
TZOFFSETFROM:-0500
TZOFFSETTO:-0400
TZNAME:EDT
DTSTART:20250309T070000
END:DAYLIGHT
BEGIN:STANDARD
TZOFFSETFROM:-0400
TZOFFSETTO:-0500
TZNAME:EST
DTSTART:20251102T060000
END:STANDARD
BEGIN:DAYLIGHT
TZOFFSETFROM:-0500
TZOFFSETTO:-0400
TZNAME:EDT
DTSTART:20260308T070000
END:DAYLIGHT
BEGIN:STANDARD
TZOFFSETFROM:-0400
TZOFFSETTO:-0500
TZNAME:EST
DTSTART:20261101T060000
END:STANDARD
BEGIN:DAYLIGHT
TZOFFSETFROM:-0500
TZOFFSETTO:-0400
TZNAME:EDT
DTSTART:20270314T070000
END:DAYLIGHT
BEGIN:STANDARD
TZOFFSETFROM:-0400
TZOFFSETTO:-0500
TZNAME:EST
DTSTART:20271107T060000
END:STANDARD
END:VTIMEZONE
BEGIN:VEVENT
DTSTART;TZID=America/Toronto:20260425T110000
DTEND;TZID=America/Toronto:20260425T140000
DTSTAMP:20260424T050438
CREATED:20260226T184824Z
LAST-MODIFIED:20260409T182713Z
UID:131485-1777114800-1777125600@rainbowminerals.com
SUMMARY:BEAD SWAP SATURDAY
DESCRIPTION:Registration is Free : SPACE IS LIMITED \nBead Swap Saturday is a casual event where jewelry makers\, crafters\, and bead lovers bring extra beads and supplies to trade with others. THIS IS A FUN EVENT…. FUN IS THE KEY \n🧵 How It Works\n\n\nBring beads\, charms\, findings\, wire\, or small tools you no longer need \n\n\nYou must Display your items clearly (small containers or labeled bags help) \n\n\nSwap item-for-item or agree on fair trades\, selling not permitted \n\n\n📦 What to Bring\n-Glass\, seed\, gemstone\, or acrylic beads\n-Charms and pendants\n-Clasps\, hooks\, jump rings\n-Beading thread or wire\n-Handmade pieces for trade (optional)
URL:https://rainbowminerals.com/classes/bead-swap-saturday/
LOCATION:Rainbow Minerals\, 2253 Gladwin Crescent\, Ottawa\, Ontario\, K1B4K9\, Canada
CATEGORIES:Classes,Events
ATTACH;FMTTYPE=image/jpeg:https://rainbowminerals.com/wp-content/uploads/2026/02/beadswap.jpg
ORGANIZER;CN="Rainbow Minerals":MAILTO:info@rainbowminerals.com
END:VEVENT
BEGIN:VEVENT
DTSTART;TZID=America/Toronto:20260430T174500
DTEND;TZID=America/Toronto:20260430T204500
DTSTAMP:20260424T050438
CREATED:20260311T155457Z
LAST-MODIFIED:20260409T182713Z
UID:131608-1777571100-1777581900@rainbowminerals.com
SUMMARY:You are the Oracle - Intuitive & Oracle Workshop- by Miadium
DESCRIPTION:Have you ever felt a quiet pull toward your intuition but weren’t sure how to trust it?\nJoin Martine Dupuis\, Miadium\, for an evening of intuitive discovery—unlock the wisdom within and learn how to read Oracle cards.\nThis workshop meets you exactly where you are. Martine will gently guide you through group exercises to help connect to your intuition. You will learn how to develop a personal practice rooted in clarity and trust.\n\nWhat you’ll walk away with:\n\nA deeper connection to your intuition\nFoundational knowledge of oracle cards & how to use them\nTools to protect and ground your energy\nClarity\, community\, and a few magical surprises\n\n\nEvent Details\nDate: Thursday\, April 30th\, 2026\nTime: 5:45 PM – 8:45 PM \nInvestment:\n$133 per person (Regular Price)\n$99 per person (Early Bird) – Use code EARLYBIRD at checkout to unlock this price! Offer valid until April 14th 2026. \nCLICK HERE TO BOOK https://calendly.com/miadium-info/you-are-the-oracle-workshop\n\n\n All levels are welcome\n\nSmall group. Big shifts. Spaces are limited — reserve yours today \n\n 
URL:https://rainbowminerals.com/classes/you-are-the-oracle-workshop-by-miamium/
LOCATION:Rainbow Minerals\, 2253 Gladwin Crescent\, Ottawa\, Ontario\, K1B4K9\, Canada
CATEGORIES:Classes,Events
ATTACH;FMTTYPE=image/png:https://rainbowminerals.com/wp-content/uploads/2026/03/miadium-add-e1774541474837.png
END:VEVENT
END:VCALENDAR