BEGIN:VCALENDAR
VERSION:2.0
PRODID:-//Rainbow Minerals - ECPv6.15.13//NONSGML v1.0//EN
CALSCALE:GREGORIAN
METHOD:PUBLISH
X-WR-CALNAME:Rainbow Minerals
X-ORIGINAL-URL:https://rainbowminerals.com
X-WR-CALDESC:Events for Rainbow Minerals
REFRESH-INTERVAL;VALUE=DURATION:PT1H
X-Robots-Tag:noindex
X-PUBLISHED-TTL:PT1H
BEGIN:VTIMEZONE
TZID:America/Toronto
BEGIN:DAYLIGHT
TZOFFSETFROM:-0500
TZOFFSETTO:-0400
TZNAME:EDT
DTSTART:20250309T070000
END:DAYLIGHT
BEGIN:STANDARD
TZOFFSETFROM:-0400
TZOFFSETTO:-0500
TZNAME:EST
DTSTART:20251102T060000
END:STANDARD
BEGIN:DAYLIGHT
TZOFFSETFROM:-0500
TZOFFSETTO:-0400
TZNAME:EDT
DTSTART:20260308T070000
END:DAYLIGHT
BEGIN:STANDARD
TZOFFSETFROM:-0400
TZOFFSETTO:-0500
TZNAME:EST
DTSTART:20261101T060000
END:STANDARD
BEGIN:DAYLIGHT
TZOFFSETFROM:-0500
TZOFFSETTO:-0400
TZNAME:EDT
DTSTART:20270314T070000
END:DAYLIGHT
BEGIN:STANDARD
TZOFFSETFROM:-0400
TZOFFSETTO:-0500
TZNAME:EST
DTSTART:20271107T060000
END:STANDARD
END:VTIMEZONE
BEGIN:VEVENT
DTSTART;TZID=America/Toronto:20260329T093000
DTEND;TZID=America/Toronto:20260329T160000
DTSTAMP:20260420T002401
CREATED:20260212T160802Z
LAST-MODIFIED:20260212T160859Z
UID:131386-1774776600-1774800000@rainbowminerals.com
SUMMARY:Trapper Hat Workshop with Colleen Nolan
DESCRIPTION:$399.00 Includes all furs and skins with shearling \nREGISTER HERE \nJoin us for a hands-on Trappers Hat Workshop\, where participants will learn the art and skill of creating their own traditional winter hat. This workshop blends practical instruction with cultural connection\, offering a welcoming space to learn\, share\, and create together. \nParticipants will be guided step-by-step through the entire process — from understanding materials and measuring for the perfect fit to assembling and finishing their hat. Along the way\, we’ll share stories and teachings\, engaging in lighthearted conversation as we work. \nThis workshop is about more than sewing. It’s about gathering\, reconnecting with cultural knowledge\, and creating something meaningful with your own hands. Whether you’re a beginner or have experience\, you’ll leave with a finished hat\, new skills\, and a deeper appreciation for the tradition behind it. \nAll materials are provided.Spots are limited to ensure a supportive\, small-group experience. \nREGISTER HERE
URL:https://rainbowminerals.com/classes/trapper-hat-workshop-with-colleen-nolan/
LOCATION:Rainbow Minerals\, 2253 Gladwin Crescent\, Ottawa\, Ontario\, K1B4K9\, Canada
CATEGORIES:Classes,Events
ATTACH;FMTTYPE=image/jpeg:https://rainbowminerals.com/wp-content/uploads/2026/01/fur-hat1-e1770912528659.jpg
ORGANIZER;CN="www.cntrainingsolutions.com":MAILTO:cnolan@cntrainingsolutions.com
END:VEVENT
BEGIN:VEVENT
DTSTART;TZID=America/Toronto:20260329T093000
DTEND;TZID=America/Toronto:20260329T160000
DTSTAMP:20260420T002401
CREATED:20260218T160245Z
LAST-MODIFIED:20260409T182716Z
UID:131429-1774776600-1774800000@rainbowminerals.com
SUMMARY:DIY Day with Colleen Nolan\, Moccasin or Trappers Hat
DESCRIPTION:https://www.cntrainingsolutions.com/s/shop \nLimited spots available to ensure a supportive\, small-group experience \nJoin us for a hands-on Moccasin Workshop where participants will learn the art and skill of creating their own traditional moccasins. This workshop blends practical instruction with cultural connection\, creating space to learn\, share\, and create together. \nParticipants will be guided step-by-step through the process. Along the way\, we’ll share stories\, teachings\, and engaging in fun and light conversation. \nThis workshop is about more than sewing—it’s about gathering\, reconnecting with cultural knowledge\, and creating something meaningful with your own hands. Whether you’re a beginner or have experience\, you’ll leave with a finished pair of moccasins\, new skills\, and a deeper appreciation for the tradition behind it. All materials provided.  \n.
URL:https://rainbowminerals.com/classes/diy-day-with-colleen-nolan-moccasin-or-trappers-hat/
LOCATION:Rainbow Minerals\, 2253 Gladwin Crescent\, Ottawa\, Ontario\, K1B4K9\, Canada
CATEGORIES:Classes,Events
ATTACH;FMTTYPE=image/jpeg:https://rainbowminerals.com/wp-content/uploads/2026/02/moccasin-e1771430337121.jpg
END:VEVENT
END:VCALENDAR