BEGIN:VCALENDAR
VERSION:2.0
PRODID:-//Rainbow Minerals - ECPv6.15.13//NONSGML v1.0//EN
CALSCALE:GREGORIAN
METHOD:PUBLISH
X-ORIGINAL-URL:https://rainbowminerals.com
X-WR-CALDESC:Events for Rainbow Minerals
REFRESH-INTERVAL;VALUE=DURATION:PT1H
X-Robots-Tag:noindex
X-PUBLISHED-TTL:PT1H
BEGIN:VTIMEZONE
TZID:America/Toronto
BEGIN:DAYLIGHT
TZOFFSETFROM:-0500
TZOFFSETTO:-0400
TZNAME:EDT
DTSTART:20250309T070000
END:DAYLIGHT
BEGIN:STANDARD
TZOFFSETFROM:-0400
TZOFFSETTO:-0500
TZNAME:EST
DTSTART:20251102T060000
END:STANDARD
BEGIN:DAYLIGHT
TZOFFSETFROM:-0500
TZOFFSETTO:-0400
TZNAME:EDT
DTSTART:20260308T070000
END:DAYLIGHT
BEGIN:STANDARD
TZOFFSETFROM:-0400
TZOFFSETTO:-0500
TZNAME:EST
DTSTART:20261101T060000
END:STANDARD
BEGIN:DAYLIGHT
TZOFFSETFROM:-0500
TZOFFSETTO:-0400
TZNAME:EDT
DTSTART:20270314T070000
END:DAYLIGHT
BEGIN:STANDARD
TZOFFSETFROM:-0400
TZOFFSETTO:-0500
TZNAME:EST
DTSTART:20271107T060000
END:STANDARD
END:VTIMEZONE
BEGIN:VEVENT
DTSTART;TZID=America/Toronto:20260328T103000
DTEND;TZID=America/Toronto:20260328T133000
DTSTAMP:20260421T194534
CREATED:20260226T164021Z
LAST-MODIFIED:20260227T005157Z
UID:131477-1774693800-1774704600@rainbowminerals.com
SUMMARY:Pearl Knotting - Make and Take -
DESCRIPTION:REG: $135.00 \nEARLY BIRD: $89.99 (all supplies included we use FreshWater Pearls) \nMake and Take- Take home your own 16″ Fresh Water Peral Necklace\n\nDiscover the elegance and patience behind traditional pearl knotting — a heritage technique passed down through generations of fine jewelry artisans. \nEach pearl is individually hand-knotted on silk thread\, creating not only a beautiful drape but also: \n✨ Protection – Knots prevent pearls from rubbing against each other\, preserving their luster.✨ Security – If the strand breaks\, only one pearl falls instead of the entire necklace.✨ Graceful Movement – Hand-knotting gives necklaces a soft\, fluid drape around the neckline.✨ Craftsmanship – A mark of true artisan quality in fine jewelry. \nWhether you’re a jewelry enthusiast\, a creative soul\, or simply curious about traditional craftsmanship\, this is your invitation to slow down and experience a refined\, mindful art form. \nWhat You’ll Learn\n-Selecting the right silk thread\n-Proper pearl alignment and tension\n-Creating uniform\, tight knots\n-Finishing techniques for a professional look \nStep into a tradition where patience meets beauty\, and craftsmanship turns simple pearls into heirloom treasures.
URL:https://rainbowminerals.com/classes/pearl-knotting-make-and-take/
CATEGORIES:Classes,Events
ATTACH;FMTTYPE=image/jpeg:https://rainbowminerals.com/wp-content/uploads/2026/02/peral-knotting-e1772130988635.jpg
END:VEVENT
END:VCALENDAR