BEGIN:VCALENDAR
VERSION:2.0
PRODID:-//Rainbow Minerals - ECPv6.15.13//NONSGML v1.0//EN
CALSCALE:GREGORIAN
METHOD:PUBLISH
X-WR-CALNAME:Rainbow Minerals
X-ORIGINAL-URL:https://rainbowminerals.com
X-WR-CALDESC:Events for Rainbow Minerals
REFRESH-INTERVAL;VALUE=DURATION:PT1H
X-Robots-Tag:noindex
X-PUBLISHED-TTL:PT1H
BEGIN:VTIMEZONE
TZID:America/Toronto
BEGIN:DAYLIGHT
TZOFFSETFROM:-0500
TZOFFSETTO:-0400
TZNAME:EDT
DTSTART:20250309T070000
END:DAYLIGHT
BEGIN:STANDARD
TZOFFSETFROM:-0400
TZOFFSETTO:-0500
TZNAME:EST
DTSTART:20251102T060000
END:STANDARD
BEGIN:DAYLIGHT
TZOFFSETFROM:-0500
TZOFFSETTO:-0400
TZNAME:EDT
DTSTART:20260308T070000
END:DAYLIGHT
BEGIN:STANDARD
TZOFFSETFROM:-0400
TZOFFSETTO:-0500
TZNAME:EST
DTSTART:20261101T060000
END:STANDARD
BEGIN:DAYLIGHT
TZOFFSETFROM:-0500
TZOFFSETTO:-0400
TZNAME:EDT
DTSTART:20270314T070000
END:DAYLIGHT
BEGIN:STANDARD
TZOFFSETFROM:-0400
TZOFFSETTO:-0500
TZNAME:EST
DTSTART:20271107T060000
END:STANDARD
END:VTIMEZONE
BEGIN:VEVENT
DTSTART;TZID=America/Toronto:20260226T174500
DTEND;TZID=America/Toronto:20260226T194500
DTSTAMP:20260419T152315
CREATED:20260121T160936Z
LAST-MODIFIED:20260121T163310Z
UID:131217-1772127900-1772135100@rainbowminerals.com
SUMMARY:A night with Oracle Cards\, Connect with your Intuition
DESCRIPTION:Who is Miadium ? : Martine\, known as Miadium\, is an evidential medium based in Ottawa. She offers a range of services\, including mediumship readings and spiritual readings (intuitive oracle readings). Through her work\, she communicates with the souls of the deceased\, as well as with spiritual guides and angels\, delivering evidence-based messages from beyond. Martine is deeply people-oriented and passionate about connecting with others. She believes that learning is a lifelong journey and that sharing experiences and insights helps us grow into the best versions of ourselves. \n Description of the event/workshop : Would you like to learn how to read oracle cards and deepen your connection to your intuition?  \nThis workshop is for anyone who wishes to learn how to connect with their intuition to work with Oracle Cards and gain meaningful insights for themselves or others. This workshop is beginner-friendly and open to all levels. \nWhat to expect🔮 \n\n* Learn the fundamentals of oracle cards\n* Discover the key differences between Tarot and Oracle cards\n* Learn how to work with oracle cards and connect to your intuition\n* Gain tools to protect and ground your energy\n* Small group practice\n* Participate in a guided meditation\n* Share your experience in an open\, safe\, and non-judgmental space\n* Surprises along the way 🔮 \n***Please refer to the booking link for complete event details. \nEvent Details🗓️ \nDate: Thursday\, February 26th\, 2026\nTime: 5:45 PM – 7:45 PM\nLocation: In-person at RAINBOW MINERALS\,  2255 Gladwin Crescent\, Ottawa\, ON \nInvestment:\n$95 per person (Regular Price) \n$80 per person (Early Bird) – Use code EARLYBIRD at checkout to unlock this price! Offer valid until February 1st 2026. \nLink to book your spot : https://calendly.com/miadium-info/oracle-workshop-in-person-event  \n 
URL:https://rainbowminerals.com/classes/learn-to-read-oracle-connect-with-your-intuition/
LOCATION:Rainbow Minerals\, 2253 Gladwin Crescent\, Ottawa\, Ontario\, K1B4K9\, Canada
CATEGORIES:Classes,Events
END:VEVENT
END:VCALENDAR