BEGIN:VCALENDAR
VERSION:2.0
PRODID:-//Rainbow Minerals - ECPv6.15.13//NONSGML v1.0//EN
CALSCALE:GREGORIAN
METHOD:PUBLISH
X-WR-CALNAME:Rainbow Minerals
X-ORIGINAL-URL:https://rainbowminerals.com
X-WR-CALDESC:Events for Rainbow Minerals
REFRESH-INTERVAL;VALUE=DURATION:PT1H
X-Robots-Tag:noindex
X-PUBLISHED-TTL:PT1H
BEGIN:VTIMEZONE
TZID:America/Toronto
BEGIN:DAYLIGHT
TZOFFSETFROM:-0500
TZOFFSETTO:-0400
TZNAME:EDT
DTSTART:20240310T070000
END:DAYLIGHT
BEGIN:STANDARD
TZOFFSETFROM:-0400
TZOFFSETTO:-0500
TZNAME:EST
DTSTART:20241103T060000
END:STANDARD
BEGIN:DAYLIGHT
TZOFFSETFROM:-0500
TZOFFSETTO:-0400
TZNAME:EDT
DTSTART:20250309T070000
END:DAYLIGHT
BEGIN:STANDARD
TZOFFSETFROM:-0400
TZOFFSETTO:-0500
TZNAME:EST
DTSTART:20251102T060000
END:STANDARD
BEGIN:DAYLIGHT
TZOFFSETFROM:-0500
TZOFFSETTO:-0400
TZNAME:EDT
DTSTART:20260308T070000
END:DAYLIGHT
BEGIN:STANDARD
TZOFFSETFROM:-0400
TZOFFSETTO:-0500
TZNAME:EST
DTSTART:20261101T060000
END:STANDARD
END:VTIMEZONE
BEGIN:VEVENT
DTSTART;TZID=America/Toronto:20251129T093000
DTEND;TZID=America/Toronto:20251129T120000
DTSTAMP:20260424T231550
CREATED:20251003T193900Z
LAST-MODIFIED:20251022T165842Z
UID:130267-1764408600-1764417600@rainbowminerals.com
SUMMARY:Leather Moccasins - 1 OF 2 part class
DESCRIPTION:1 SEAT LEFT\nJoin Indigenous creator and trainer Colleen Nolan to learn traditional crafting\, connect with culture\, and create something meaningful. \nColleen Nolan is an Anishinaabe woman from Garden River First Nation and the founder of CN Training Solutions. She is a certified trainer and facilitator specializing in workshop development\, capacity building\, and strategic planning. As a child of a residential school\, Colleen brings a deeply personal perspective to her work\, blending Indigenous knowledge\, artistry\, and leadership to share culture\, skills\, and connection with others. \nLearn the Art of Moccasin Making. \nJoin this hands-on workshop and create your own pair of traditional moccasins. Hosted by Indigenous creator and trainer\, Colleen Nolan. Open to beginners and experienced crafters alike\, the session offers a welcoming space to learn\, share stories\, and connect with others. Walk away with a beautiful handmade pair of moccasins—and a sense of pride and accomplishment. \n$185.00\nPART 1:  Saturday Nov 29th (9:30-12:30pm)\nPART 2:  Saturday Dec 6th (9:30-12:30pm)\n🌿 Click here to REGISTER
URL:https://rainbowminerals.com/classes/leather-moccasins-2-part-class/
CATEGORIES:Classes,Events
ATTACH;FMTTYPE=image/png:https://rainbowminerals.com/wp-content/uploads/2025/10/thumbnail_mocs-e1759520186275.png
END:VEVENT
END:VCALENDAR